BEGIN:VCALENDAR
VERSION:2.0
PRODID:-//Linkes Zentrum Lilo Herrmann - ECPv6.15.20//NONSGML v1.0//EN
CALSCALE:GREGORIAN
METHOD:PUBLISH
X-ORIGINAL-URL:https://www.linkeszentrumstuttgart.org
X-WR-CALDESC:Veranstaltungen für Linkes Zentrum Lilo Herrmann
REFRESH-INTERVAL;VALUE=DURATION:PT1H
X-Robots-Tag:noindex
X-PUBLISHED-TTL:PT1H
BEGIN:VTIMEZONE
TZID:Europe/Berlin
BEGIN:DAYLIGHT
TZOFFSETFROM:+0100
TZOFFSETTO:+0200
TZNAME:CEST
DTSTART:20250330T010000
END:DAYLIGHT
BEGIN:STANDARD
TZOFFSETFROM:+0200
TZOFFSETTO:+0100
TZNAME:CET
DTSTART:20251026T010000
END:STANDARD
BEGIN:DAYLIGHT
TZOFFSETFROM:+0100
TZOFFSETTO:+0200
TZNAME:CEST
DTSTART:20260329T010000
END:DAYLIGHT
BEGIN:STANDARD
TZOFFSETFROM:+0200
TZOFFSETTO:+0100
TZNAME:CET
DTSTART:20261025T010000
END:STANDARD
BEGIN:DAYLIGHT
TZOFFSETFROM:+0100
TZOFFSETTO:+0200
TZNAME:CEST
DTSTART:20270328T010000
END:DAYLIGHT
BEGIN:STANDARD
TZOFFSETFROM:+0200
TZOFFSETTO:+0100
TZNAME:CET
DTSTART:20271031T010000
END:STANDARD
END:VTIMEZONE
BEGIN:VEVENT
DTSTART;TZID=Europe/Berlin:20260129T170000
DTEND;TZID=Europe/Berlin:20260129T220000
DTSTAMP:20260425T124418
CREATED:20260129T212647Z
LAST-MODIFIED:20260129T212647Z
UID:7054-1769706000-1769724000@www.linkeszentrumstuttgart.org
SUMMARY:Gedenken an Arthur
DESCRIPTION:17:00 Uhr Treffpunkt  zur gemeinsamer Anreise zum Friedhof \n19:00 Kollektives Gedenken & Spieleabend
URL:https://www.linkeszentrumstuttgart.org/veranstaltungen/gedenken-an-arthur/
LOCATION:Linkes Zentrum Lilo Herrmann\, Böblingerstr. 105\, Stuttgart\, Baden-Württemberg\, 70199
END:VEVENT
END:VCALENDAR