BEGIN:VCALENDAR
VERSION:2.0
PRODID:-//Linkes Zentrum Lilo Herrmann - ECPv6.15.20//NONSGML v1.0//EN
CALSCALE:GREGORIAN
METHOD:PUBLISH
X-ORIGINAL-URL:https://www.linkeszentrumstuttgart.org
X-WR-CALDESC:Veranstaltungen für Linkes Zentrum Lilo Herrmann
REFRESH-INTERVAL;VALUE=DURATION:PT1H
X-Robots-Tag:noindex
X-PUBLISHED-TTL:PT1H
BEGIN:VTIMEZONE
TZID:Europe/Berlin
BEGIN:DAYLIGHT
TZOFFSETFROM:+0100
TZOFFSETTO:+0200
TZNAME:CEST
DTSTART:20250330T010000
END:DAYLIGHT
BEGIN:STANDARD
TZOFFSETFROM:+0200
TZOFFSETTO:+0100
TZNAME:CET
DTSTART:20251026T010000
END:STANDARD
BEGIN:DAYLIGHT
TZOFFSETFROM:+0100
TZOFFSETTO:+0200
TZNAME:CEST
DTSTART:20260329T010000
END:DAYLIGHT
BEGIN:STANDARD
TZOFFSETFROM:+0200
TZOFFSETTO:+0100
TZNAME:CET
DTSTART:20261025T010000
END:STANDARD
BEGIN:DAYLIGHT
TZOFFSETFROM:+0100
TZOFFSETTO:+0200
TZNAME:CEST
DTSTART:20270328T010000
END:DAYLIGHT
BEGIN:STANDARD
TZOFFSETFROM:+0200
TZOFFSETTO:+0100
TZNAME:CET
DTSTART:20271031T010000
END:STANDARD
END:VTIMEZONE
BEGIN:VEVENT
DTSTART;TZID=Europe/Berlin:20260814T190000
DTEND;TZID=Europe/Berlin:20260814T210000
DTSTAMP:20260419T233213
CREATED:20260111T120652Z
LAST-MODIFIED:20260111T120652Z
UID:6897-1786734000-1786741200@www.linkeszentrumstuttgart.org
SUMMARY:Antifa Kneipe
DESCRIPTION:Hier gibt es für alle\, die sich für das Thema Antifaschismus interessieren\, die Möglichkeit in geselliger Runde den Abend zu verbringen. Die Antifa-Kneipe findet jeden dritten Freitag im Monat statt und startet um 19 Uhr. Der Schwerpunkt der Kneipe ändert sich monatlich\, mal wird ein Film gezeigt\, mal gibt es einen Vortrag zu aktuellen oder historischen Ereignissen\, mal steht das gesellige Beisammensein im Vordergrund. Aktuelle Veranstaltungsinhalte finden sich auf den Kanälen des AABS.\n 
URL:https://www.linkeszentrumstuttgart.org/veranstaltungen/antifa-kneipe-4-2026-08-14/
LOCATION:Linkes Zentrum Lilo Herrmann\, Böblingerstr. 105\, Stuttgart\, Baden-Württemberg\, 70199
CATEGORIES:Kneipe
ATTACH;FMTTYPE=image/png:https://www.linkeszentrumstuttgart.org/wp-content/uploads/2026/01/Antifalogo_alt2_png.png
END:VEVENT
END:VCALENDAR