BEGIN:VCALENDAR
VERSION:2.0
PRODID:-//Linkes Zentrum Lilo Herrmann - ECPv6.15.20//NONSGML v1.0//EN
CALSCALE:GREGORIAN
METHOD:PUBLISH
X-WR-CALNAME:Linkes Zentrum Lilo Herrmann
X-ORIGINAL-URL:https://www.linkeszentrumstuttgart.org
X-WR-CALDESC:Veranstaltungen für Linkes Zentrum Lilo Herrmann
REFRESH-INTERVAL;VALUE=DURATION:PT1H
X-Robots-Tag:noindex
X-PUBLISHED-TTL:PT1H
BEGIN:VTIMEZONE
TZID:Europe/Berlin
BEGIN:DAYLIGHT
TZOFFSETFROM:+0100
TZOFFSETTO:+0200
TZNAME:CEST
DTSTART:20200329T010000
END:DAYLIGHT
BEGIN:STANDARD
TZOFFSETFROM:+0200
TZOFFSETTO:+0100
TZNAME:CET
DTSTART:20201025T010000
END:STANDARD
BEGIN:DAYLIGHT
TZOFFSETFROM:+0100
TZOFFSETTO:+0200
TZNAME:CEST
DTSTART:20210328T010000
END:DAYLIGHT
BEGIN:STANDARD
TZOFFSETFROM:+0200
TZOFFSETTO:+0100
TZNAME:CET
DTSTART:20211031T010000
END:STANDARD
BEGIN:DAYLIGHT
TZOFFSETFROM:+0100
TZOFFSETTO:+0200
TZNAME:CEST
DTSTART:20220327T010000
END:DAYLIGHT
BEGIN:STANDARD
TZOFFSETFROM:+0200
TZOFFSETTO:+0100
TZNAME:CET
DTSTART:20221030T010000
END:STANDARD
END:VTIMEZONE
BEGIN:VEVENT
DTSTART;TZID=Europe/Berlin:20210604T180000
DTEND;TZID=Europe/Berlin:20210604T180000
DTSTAMP:20260423T111440
CREATED:20210602T071348Z
LAST-MODIFIED:20210602T071436Z
UID:3847-1622829600-1622829600@www.linkeszentrumstuttgart.org
SUMMARY:Klassenkampftresen
DESCRIPTION:Der Klassenkampftresen findet einmal im Monat statt. Er wird organisiert von der Organisation Solidarität und Klassenkampf.  \nWieso machen wir eigentlich die Sachen\, die wir machen? Was sind unsere Ideen\, welche Fragen sehen wir\, wie? Theorien entstehen erst in der politischen Auseinandersetzung\, und politische Auseinandersetzung wäre willkürlich ohne Theorie. Da man sich mit Marx\, Arbeitswertlehre\, Krisenerklärungen und und und aber oft allein rumschlagen muss\, wollen wir\, Solidarität und Klassenkampf\, mit dem Klassenkampftresen einen Hafen für Diskussionen\, tiefere Auseinandersetzungen und Bildung schaffen. Jeden ersten Freitag im Monat\, in lockerer Runde\, ab 18 Uhr im Linken Zentrum Lilo Herrmann. \nNächstes mal geht es um die Wirtschaftskrise- was langweilig und trocken klingen kann\, formt aber die Verhältnisse\, in denen wir Politik machen und leben. Also woher kommt sie? Was hat sie mit dem Kapitalismus zu tun und auf was sollten wir besonders achtgeben? Was sollte unsere Reaktion auf Krisen sein? Darüber wollen wir reden! \n\n \n 
URL:https://www.linkeszentrumstuttgart.org/veranstaltungen/klassenkampftresen/
LOCATION:Baden-Württemberg
END:VEVENT
BEGIN:VEVENT
DTSTART;TZID=Europe/Berlin:20210612T190000
DTEND;TZID=Europe/Berlin:20210612T190000
DTSTAMP:20260423T111440
CREATED:20210518T131805Z
LAST-MODIFIED:20210610T155800Z
UID:3794-1623524400-1623524400@www.linkeszentrumstuttgart.org
SUMMARY:Vokü im freien
DESCRIPTION:Wir nehmen uns die Straßen und Plätze Heslachs mit Stühlen\, Hockern oder Sitzkissen. \nIm freien\, in Kleingruppen und mit Abstand wollen wir unsere Vokü wieder aufblühen lassen. Kommt deshalb am 12. Juni ab 19 Uhr mit Sitzgelegenheiten zum Lilo und bringt Freund:innen mit! \nWir stellen Essen\, Getränke und Cocktails zu sozialen Preisen. Das Lilo steht euch für Toilettengänge offen\, bleibt aber ansonsten geschlossen.\nWir freuen uns auf euch!
URL:https://www.linkeszentrumstuttgart.org/veranstaltungen/die-vokue-ist-zurueck-im-freien/
LOCATION:Baden-Württemberg
END:VEVENT
BEGIN:VEVENT
DTSTART;TZID=Europe/Berlin:20210620T150000
DTEND;TZID=Europe/Berlin:20210620T150000
DTSTAMP:20260423T111440
CREATED:20210616T080356Z
LAST-MODIFIED:20210616T080356Z
UID:3873-1624201200-1624201200@www.linkeszentrumstuttgart.org
SUMMARY:Gedenken an Lilo Herrmann - Kundgebung mit Reden\, Livemusik und Ausstellung
DESCRIPTION:Nicht nur in Zeiten des Rechtsrucks ist es wichtig\, den antifaschistischen Kampf aktiv zu führen. Für uns heißt das neben der Organisation von Protesten gegen rechte Akteure\, Bekämpfung von Rassismus im Alltag und Aufklärung über die Zuspitzung der herrschenden Verhältnisse auch\, dass wir auf diejenigen Bezug nehmen\, die bereits vor uns eben diesen Kampf geführt haben. Die Erinnerung an diejenigen lebendig zu halten\, die damals ihr Leben riskierten im Kampf für eine Welt ohne Krieg und Faschismus ist unsere Pflicht.\n \nKundgebung mit Redebeiträgen\, Livemusik und Ausstellung\nSonntag\, 20. Juni\n15 Uhr an den Gedenkstein im Unipark\n \n\n\nDaher erinnern wir am 20. Juni an Liselotte Herrmann\n \n\n\nLilo war schon in ihrer Jugend politisch aktiv und kam zum Studium 1929 nach Stuttgart. Als Studentin wurde sie aufgrund ihrer kommunistischen Überzeugung von der Uni suspendiert. Daraufhin arbeitete sie im Büro ihres Vaters hier in Stuttgart und war klandestin für die KPD aktiv und schmuggelte Kriegspläne in die Schweiz. In Schutzhaft und im Verhör in der Gestapo-Zentrale Hotel Silber verlor sie kein Wort über die Strukturen des „Abwehrapparates“ der KPD.\n \n\n\nAufgrund ihres Widerstandes wurde sie im Juni 1938 in Berlin wegen Hochverrats zum Tode verurteilt und am 20. Juni in Plöttensee hingerichtet.\n\n\nUm an Lilo und ihren entschlossenen Kampf zu erinnern findet am 20. Juni 2021 um 15 Uhr eine Kundgebung am von Studierenden der Uni Stuttgart 1988 illegal errichteten Gedenkstein statt.\n \n\n\nErinnern heißt kämpfen!\n\n\nAufruf von: Antifaschistisches Aktionsbündnis Stuttgart & Region (AABS)\, Antifaschistische Aktion (Aufbau) Stuttgart\, DKP Stuttgart\, Linkes Zentrum Lilo Herrmann & VVN-BdA\n\n\n \nKommt zur Kundgebung mit Redebeiträgen\, Livemusik und Ausstellung um 15 Uhr an den Gedenkstein im Unipark\n 
URL:https://www.linkeszentrumstuttgart.org/veranstaltungen/gedenken-an-lilo-herrmann-kundgebung-mit-reden-livemusik-und-ausstellung/
LOCATION:Unipark Stuttgart (Nähe HBF)
END:VEVENT
END:VCALENDAR