BEGIN:VCALENDAR
VERSION:2.0
PRODID:-//Linkes Zentrum Lilo Herrmann - ECPv6.15.20//NONSGML v1.0//EN
CALSCALE:GREGORIAN
METHOD:PUBLISH
X-WR-CALNAME:Linkes Zentrum Lilo Herrmann
X-ORIGINAL-URL:http://www.linkeszentrumstuttgart.org
X-WR-CALDESC:Veranstaltungen für Linkes Zentrum Lilo Herrmann
REFRESH-INTERVAL;VALUE=DURATION:PT1H
X-Robots-Tag:noindex
X-PUBLISHED-TTL:PT1H
BEGIN:VTIMEZONE
TZID:Europe/Berlin
BEGIN:DAYLIGHT
TZOFFSETFROM:+0100
TZOFFSETTO:+0200
TZNAME:CEST
DTSTART:20250330T010000
END:DAYLIGHT
BEGIN:STANDARD
TZOFFSETFROM:+0200
TZOFFSETTO:+0100
TZNAME:CET
DTSTART:20251026T010000
END:STANDARD
BEGIN:DAYLIGHT
TZOFFSETFROM:+0100
TZOFFSETTO:+0200
TZNAME:CEST
DTSTART:20260329T010000
END:DAYLIGHT
BEGIN:STANDARD
TZOFFSETFROM:+0200
TZOFFSETTO:+0100
TZNAME:CET
DTSTART:20261025T010000
END:STANDARD
BEGIN:DAYLIGHT
TZOFFSETFROM:+0100
TZOFFSETTO:+0200
TZNAME:CEST
DTSTART:20270328T010000
END:DAYLIGHT
BEGIN:STANDARD
TZOFFSETFROM:+0200
TZOFFSETTO:+0100
TZNAME:CET
DTSTART:20271031T010000
END:STANDARD
END:VTIMEZONE
BEGIN:VEVENT
DTSTART;TZID=Europe/Berlin:20260424T180000
DTEND;TZID=Europe/Berlin:20260424T230000
DTSTAMP:20260424T130539
CREATED:20250213T160532Z
LAST-MODIFIED:20260111T182957Z
UID:6732-1777053600-1777071600@www.linkeszentrumstuttgart.org
SUMMARY:Kneipe "Cafe Südstern"
DESCRIPTION:Jeden Freitag von 17:00 -23:00 Uhr öffnet die Kneipe „Cafe Südstern“ ihre Türen und ihr könnt in netter unkomunizeller Atmophäre ein Limonade oder ein Bier und ein schwäbisches Essen geniessen und euch dabei wenn ihr möchtet über politische Mobilisierungen informieren. \nDas Kneipenkollektiv\nDas Café Südstern [VEB] ist ein selbstverwalteter Kollektivbetrieb im Linken Zentrum Lilo Herrmann.  Wir bieten Getränke und Essen zu möglichst sozialen Preisen und in einem solidarischen Umfeld an. In unseren Räumen finden zudem Veranstaltungen statt\, auch sind hier stets aktuelle Veröffentlichungen und Infomaterialien zu verschiedenen Themen und Mobilisierungen erhältlich. \nUnser Sortiment an Speisen und Getränken ist rein vegetarisch und beinhaltet auch fair gehandelte und ökologisch erzeugte Produkte. Wir arbeiten nicht gewinnorientiert\, Überschüsse werden gegebenenfalls an politische\, kulturelle und soziale Initiativen gespendet.  Ideen zur Verbesserung und eigenes Engagement sind willkommen. \nDas Kürzel VEB steht für Volkseigener Betrieb und betont den antikapitalistischen Charakter des Cafés. Volkseigene Betriebe waren in der DDR eine Rechtsform. Ihre Gründung war Teil wichtiger Ansätze eines sozialistischen Prozesses der Enteignung und Verstaatlichung von Privatunternehmen\, sowie deren Kontrolle durch und Orientierung an den Interessen der Bevölkerung\, anstelle privater Profitinteressen.
URL:http://www.linkeszentrumstuttgart.org/veranstaltungen/kneipe-cafe-suedstern-2026-04-24/
LOCATION:Linkes Zentrum Lilo Herrmann\, Böblingerstr. 105\, Stuttgart\, Baden-Württemberg\, 70199
CATEGORIES:Kneipe
ATTACH;FMTTYPE=image/webp:http://www.linkeszentrumstuttgart.org/wp-content/uploads/2025/02/cafe-suedstern-header.webp
END:VEVENT
BEGIN:VEVENT
DTSTART;TZID=Europe/Berlin:20260424T183000
DTEND;TZID=Europe/Berlin:20260424T210000
DTSTAMP:20260424T130539
CREATED:20260416T152538Z
LAST-MODIFIED:20260416T152538Z
UID:7177-1777055400-1777064400@www.linkeszentrumstuttgart.org
SUMMARY:1. Mai Pubquiz
DESCRIPTION:In der Vorbereitung findet ein Kneipenabend mit einem Quiz sowie ein wenig Input zum 1. Mai. Außerdem erwartet euch ein wenig Geschichte zum 1. Mai.\nWusstet ihr z.B. wie der 1. Mai entstand? \nUnd natürlich wird es noch Bücher und Merch geben und wie jeden Freitag im Lilo: Kneipenessen.
URL:http://www.linkeszentrumstuttgart.org/veranstaltungen/1-mai-pubquiz/
LOCATION:Linkes Zentrum Lilo Herrmann\, Böblingerstr. 105\, Stuttgart\, Baden-Württemberg\, 70199
CATEGORIES:Kneipe
END:VEVENT
END:VCALENDAR